BEGIN:VCALENDAR
VERSION:2.0
PRODID:-//City of Los Angeles Bicycle Advisory Committee - ECPv6.15.20//NONSGML v1.0//EN
CALSCALE:GREGORIAN
METHOD:PUBLISH
X-ORIGINAL-URL:https://labikecommittee.org
X-WR-CALDESC:Events for City of Los Angeles Bicycle Advisory Committee
REFRESH-INTERVAL;VALUE=DURATION:PT1H
X-Robots-Tag:noindex
X-PUBLISHED-TTL:PT1H
BEGIN:VTIMEZONE
TZID:America/Los_Angeles
BEGIN:DAYLIGHT
TZOFFSETFROM:-0800
TZOFFSETTO:-0700
TZNAME:PDT
DTSTART:20200308T100000
END:DAYLIGHT
BEGIN:STANDARD
TZOFFSETFROM:-0700
TZOFFSETTO:-0800
TZNAME:PST
DTSTART:20201101T090000
END:STANDARD
BEGIN:DAYLIGHT
TZOFFSETFROM:-0800
TZOFFSETTO:-0700
TZNAME:PDT
DTSTART:20210314T100000
END:DAYLIGHT
BEGIN:STANDARD
TZOFFSETFROM:-0700
TZOFFSETTO:-0800
TZNAME:PST
DTSTART:20211107T090000
END:STANDARD
BEGIN:DAYLIGHT
TZOFFSETFROM:-0800
TZOFFSETTO:-0700
TZNAME:PDT
DTSTART:20220313T100000
END:DAYLIGHT
BEGIN:STANDARD
TZOFFSETFROM:-0700
TZOFFSETTO:-0800
TZNAME:PST
DTSTART:20221106T090000
END:STANDARD
BEGIN:DAYLIGHT
TZOFFSETFROM:-0800
TZOFFSETTO:-0700
TZNAME:PDT
DTSTART:20230312T100000
END:DAYLIGHT
BEGIN:STANDARD
TZOFFSETFROM:-0700
TZOFFSETTO:-0800
TZNAME:PST
DTSTART:20231105T090000
END:STANDARD
BEGIN:DAYLIGHT
TZOFFSETFROM:-0800
TZOFFSETTO:-0700
TZNAME:PDT
DTSTART:20240310T100000
END:DAYLIGHT
BEGIN:STANDARD
TZOFFSETFROM:-0700
TZOFFSETTO:-0800
TZNAME:PST
DTSTART:20241103T090000
END:STANDARD
END:VTIMEZONE
BEGIN:VEVENT
DTSTART;TZID=America/Los_Angeles:20230502T183000
DTEND;TZID=America/Los_Angeles:20230502T193000
DTSTAMP:20260423T081907
CREATED:20230309T222542Z
LAST-MODIFIED:20230427T191906Z
UID:2055-1683052200-1683055800@labikecommittee.org
SUMMARY:LABAC: Advocacy & Education Subcommittee Meeting
DESCRIPTION:Agenda <- click here \n\n\n\nPlease note this meeting is in person and no streaming option will be available.  \n\n\n\nMore information to come.
URL:https://labikecommittee.org/event/labac-advocacy-education-subcommittee-meeting-2/
LOCATION:Mar Vista Public Library\,12006 Venice Boulevard\, Los Angeles\, CA 90066\, 12006 Venice Boulevard\, Los Angeles\, California\, 90066\, United States
END:VEVENT
BEGIN:VEVENT
DTSTART;TZID=America/Los_Angeles:20230404T190000
DTEND;TZID=America/Los_Angeles:20230404T210000
DTSTAMP:20260423T081907
CREATED:20230330T230911Z
LAST-MODIFIED:20230330T230913Z
UID:2075-1680634800-1680642000@labikecommittee.org
SUMMARY:(Cancelled) LABAC: General Meeting
DESCRIPTION:This meeting has been cancelled
URL:https://labikecommittee.org/event/cancelled-labac-general-meeting/
END:VEVENT
BEGIN:VEVENT
DTSTART;TZID=America/Los_Angeles:20230307T190000
DTEND;TZID=America/Los_Angeles:20230307T210000
DTSTAMP:20260423T081907
CREATED:20221229T201505Z
LAST-MODIFIED:20230306T180931Z
UID:1979-1678215600-1678222800@labikecommittee.org
SUMMARY:LABAC: Advocacy & Education Subcommittee Meeting
DESCRIPTION:Agenda
URL:https://labikecommittee.org/event/labac-advocacy-education-subcommittee-meeting/
END:VEVENT
BEGIN:VEVENT
DTSTART;TZID=America/Los_Angeles:20230207T183000
DTEND;TZID=America/Los_Angeles:20230207T210000
DTSTAMP:20260423T081907
CREATED:20221229T201407Z
LAST-MODIFIED:20230204T212458Z
UID:1977-1675794600-1675803600@labikecommittee.org
SUMMARY:LABAC General Meeting
DESCRIPTION:->AGENDA <-
URL:https://labikecommittee.org/event/labac-general-meeting-4/
END:VEVENT
BEGIN:VEVENT
DTSTART;TZID=America/Los_Angeles:20230117T130000
DTEND;TZID=America/Los_Angeles:20230117T150000
DTSTAMP:20260423T081907
CREATED:20230111T223429Z
LAST-MODIFIED:20230111T223433Z
UID:2009-1673960400-1673967600@labikecommittee.org
SUMMARY:LABAC: Bikeways and Planning Subcommittee Meeting
DESCRIPTION:–>AGENDA<– \n\n\n\n \n\n\n\nJoint Subcom agenda 1-17-23 \n\n\n\nAGENDA1. Call to Order and Introductions.2. Public Comment on non-agenda items.3. Vision Zero Update\, Matt4. Active Transportation project updates. Babak5. Hardening bike lanes: bollards\, curbs and other options. Michael Schneider \n\n\n\n6. Bike lane closures\, notification in advance and resolving closures at inactive developments. Charlie Ho \n\n\n\n7. Bike lane maintenance\, debris removal\, prioritization\, scheduling. Jennifer Gill 8. Permanent slow streets update.9. Streets For All update. Michael Schneider \n\n\n\n10. Road resurfacing schedule-bikeway implementation matrix. For current status\, see: \n\n\n\nhttps://docs.google.com/spreadsheets/d/1yGOX-qIbloDbt8exw- v4Bt1Bs8TZoAOo8wmjvtyD7FU/edit#gid=304220517 \n\n\n\n12. Project Suggestion list. https://docs.google.com/spreadsheets/d/ 1nG7dZ5QJUd8bsi_VJN3QDh__qhEIG12fsrB913uGkrA/edit#gid=0 \n\n\n\n13. AnnouncementsNext Meeting: March 21\, 2023\, 1:00PM
URL:https://labikecommittee.org/event/labac-bikeways-and-planning-subcommittee-meeting/
END:VEVENT
BEGIN:VEVENT
DTSTART;TZID=America/Los_Angeles:20221206T183000
DTEND;TZID=America/Los_Angeles:20221206T203000
DTSTAMP:20260423T081907
CREATED:20221031T171045Z
LAST-MODIFIED:20221205T172459Z
UID:1897-1670351400-1670358600@labikecommittee.org
SUMMARY:LABAC General Meeting
DESCRIPTION:–> AGENDA <–
URL:https://labikecommittee.org/event/labac-general-meeting-3/
END:VEVENT
BEGIN:VEVENT
DTSTART;TZID=America/Los_Angeles:20221115T030000
DTEND;TZID=America/Los_Angeles:20221115T033000
DTSTAMP:20260423T081907
CREATED:20221112T224346Z
LAST-MODIFIED:20221113T004902Z
UID:1924-1668481200-1668483000@labikecommittee.org
SUMMARY:Planning and Bikeways Engineering Subcommittees Joint Meeting
DESCRIPTION:Join Zoom MeetingLABACmeetings is inviting you to a scheduled Zoom meeting. \n\n\n\nTopic: LABAC Planning&Bikeways Subcom 11-15-22Time: Nov 15\, 2022 01:00 PM Pacific Time (US and Canada) \n\n\n\nJoin Zoom Meeting https://us06web.zoom.us/j/89846269782 \n\n\n\nMeeting ID: 898 4626 9782One tap mobile +16694449171\,\,89846269782# US +16699006833\,\,89846269782# US (San Jose) \n\n\n\nTo receive these agendas via the City’s Early Notification System\, subscribe at \n\n\n\nhttps://www.lacity.org/your-government/meeting-calendars/subscribe-other-meeting-agendas/departm \n\n\n\nent-commissions-committees-boards under Transportation\, Department of. \n\n\n\nPublic comment may also be sent to kentstrum@gmail.com at least two hours prior to the meeting starting time; include in the email Subject Line “Public Comment” and the agenda item number; such comments will be read aloud during consideration of that agenda item subject to time limits. \n\n\n\n\n\n\n\n\n\n\nLABAC Joint Planning & Bikeways Committee meeting agenda
URL:https://labikecommittee.org/event/planning-and-bikeways-engineering-subcommittees-joint-meeting/
END:VEVENT
BEGIN:VEVENT
DTSTART;TZID=America/Los_Angeles:20221101T190000
DTEND;TZID=America/Los_Angeles:20221101T210000
DTSTAMP:20260423T081907
CREATED:20221031T170219Z
LAST-MODIFIED:20221031T170224Z
UID:1889-1667329200-1667336400@labikecommittee.org
SUMMARY:LABAC Advocacy and Education Sub-Committee Meeting
DESCRIPTION:Advocacy and Education Sub-Committee \n\n\n\n\n\n->AGENDA<- \n\n\n\nLABAC Advocacy and Education 11-1-22 Agenda \n\n\n\nJoin Zoom Meeting: https://us02web.zoom.us/j/87291679392  \n\n\n\nMeeting ID: 872 9167 9392\, One tap mobile +13602095623\,\,87291679392# US\, +13863475053\,\,87291679392# US
URL:https://labikecommittee.org/event/labac-advocacy-and-education-sub-committee-meeting/
END:VEVENT
BEGIN:VEVENT
DTSTART;TZID=America/Los_Angeles:20221004T183000
DTEND;TZID=America/Los_Angeles:20221004T213000
DTSTAMP:20260423T081907
CREATED:20220803T031748Z
LAST-MODIFIED:20221003T191058Z
UID:1843-1664908200-1664919000@labikecommittee.org
SUMMARY:LABAC General Meeting
DESCRIPTION:-> Agenda <- \n\n\n\nhttps://us06web.zoom.us/j/88664190779?pwd=UmthZTJ5ZmpMOHR4QnFGaTBCRzNVUT09/o 8yt8/it;t \n\n\n\nMeeting ID: 886 6419 0779 Passcode: 157853 \n\n\n\nFor other information\, please email labac.committee@gmail.com
URL:https://labikecommittee.org/event/labac-general-meeting-2/
END:VEVENT
BEGIN:VEVENT
DTSTART;TZID=America/Los_Angeles:20220920T130000
DTEND;TZID=America/Los_Angeles:20220920T150000
DTSTAMP:20260423T081907
CREATED:20220719T213116Z
LAST-MODIFIED:20220919T181930Z
UID:1777-1663678800-1663686000@labikecommittee.org
SUMMARY:Planning and Bikeways Subcommittees Meeting
DESCRIPTION:-> AGENDA <-  \n\n\n\nJoint Subcom agenda 9-20-22 \n\n\n\nJoin Zoom Meeting https://us06web.zoom.us/j/87265214593 \n\n\n\nMeeting ID: 872 6521 4593
URL:https://labikecommittee.org/event/planning-and-bikeways-subcommittees-meeting/
END:VEVENT
BEGIN:VEVENT
DTSTART;TZID=America/Los_Angeles:20220906T190000
DTEND;TZID=America/Los_Angeles:20220906T210000
DTSTAMP:20260423T081907
CREATED:20220901T195406Z
LAST-MODIFIED:20220901T195409Z
UID:1865-1662490800-1662498000@labikecommittee.org
SUMMARY:Advocacy & Education Subcommittee Meeting
DESCRIPTION:->AGENDA<- \n\n\n\nJoin Zoom Meeting: https://us02web.zoom.us/j/81424333302 Meeting ID: 814 2433 3302  \n\n\n\nOne tap mobile +16694449171\,\,81424333302# US +16699006833\,\,81424333302# US (San Jose)
URL:https://labikecommittee.org/event/advocacy-education-subcommittee-meeting-4/
END:VEVENT
BEGIN:VEVENT
DTSTART;TZID=America/Los_Angeles:20220802T183000
DTEND;TZID=America/Los_Angeles:20220802T213000
DTSTAMP:20260423T081907
CREATED:20220713T195541Z
LAST-MODIFIED:20220728T214646Z
UID:1739-1659465000-1659475800@labikecommittee.org
SUMMARY:General LABAC Committee Meeting
DESCRIPTION:-> AGENDA <- \n\n\n\nJoin Zoom Meeting https://us06web.zoom.us/j/89071928471 Meeting ID: 890 7192 8471
URL:https://labikecommittee.org/event/general-labac-committee-meeting/
END:VEVENT
BEGIN:VEVENT
DTSTART;TZID=America/Los_Angeles:20220726T190000
DTEND;TZID=America/Los_Angeles:20220726T210000
DTSTAMP:20260423T081907
CREATED:20220713T194838Z
LAST-MODIFIED:20220715T174144Z
UID:1721-1658862000-1658869200@labikecommittee.org
SUMMARY:Advocacy & Education Subcommittee Meeting
DESCRIPTION:Join meeting: \n\n\n\nhttps://us06web.zoom.us/j/84287727738?pwd=ZkwrRGc1ZVNnTytRclRNZU1mTEovZz09 \n\n\n\nMeeting ID: 842 8772 7738 Passcode: 07262022 Dial by your location:+1 669 444 9171 US+1 253 215 8782 US (Tacoma)+1 346 248 7799 US (Houston) \n\n\n\n-> AGENDA <-
URL:https://labikecommittee.org/event/advocacy-education-subcommittee-meeting-3/
LOCATION:ZOOM
END:VEVENT
BEGIN:VEVENT
DTSTART;TZID=America/Los_Angeles:20220719T130000
DTEND;TZID=America/Los_Angeles:20220719T150000
DTSTAMP:20260423T081907
CREATED:20220713T195359Z
LAST-MODIFIED:20220715T171216Z
UID:1734-1658235600-1658242800@labikecommittee.org
SUMMARY:Planning & Bikeways Subcommittee Meeting
DESCRIPTION:AGENDA  \n\n\n\nJoin Zoom Meetinghttps://us06web.zoom.us/j/85345474624Meeting ID: 853 4547 4624
URL:https://labikecommittee.org/event/planning-bikeways-subcommittee-meeting/
END:VEVENT
BEGIN:VEVENT
DTSTART;TZID=America/Los_Angeles:20220710T120000
DTEND;TZID=America/Los_Angeles:20220710T130000
DTSTAMP:20260423T081907
CREATED:20220605T004303Z
LAST-MODIFIED:20220605T004307Z
UID:1605-1657454400-1657458000@labikecommittee.org
SUMMARY:California Bicycle Racing Series — NAPRD
DESCRIPTION:
URL:https://labikecommittee.org/event/california-bicycle-racing-series-naprd/
LOCATION:Carson
END:VEVENT
BEGIN:VEVENT
DTSTART;TZID=America/Los_Angeles:20220705T190000
DTEND;TZID=America/Los_Angeles:20220705T210000
DTSTAMP:20260423T081907
CREATED:20220701T220859Z
LAST-MODIFIED:20220701T220902Z
UID:1682-1657047600-1657054800@labikecommittee.org
SUMMARY:Advocacy and Education Sub-Committee Meeting
DESCRIPTION:Agenda
URL:https://labikecommittee.org/event/advocacy-and-education-sub-committee-meeting-2/
LOCATION:https://us05web.zoom.us/j/81785456874?pwd=WkZnNjBXTVRDRjRYdUVvSmZ4NC9zQT09
END:VEVENT
BEGIN:VEVENT
DTSTART;TZID=America/Los_Angeles:20220607T183000
DTEND;TZID=America/Los_Angeles:20220607T213000
DTSTAMP:20260423T081907
CREATED:20220605T001120Z
LAST-MODIFIED:20220605T163632Z
UID:1587-1654626600-1654637400@labikecommittee.org
SUMMARY:Los Angeles Bicycle Advisory Committee Meeting
DESCRIPTION:LABAC Agenda_6.7.2022.docx \n\n\n\nJoin Zoom Meeting \n\n\n\n\nhttps://us06web.zoom.us/j/89071928471\n\n\n\n\nMeeting ID: 890 7192 8471 \n\n\n\nDial by your location+1 669 900 6833 US (San Jose) +1 408 638 0968 US (San Jose) +1 346 248 7799 US (Houston) \n\n\n\nTo receive these agendas via the City’s Early Notification System\, subscribe at \n\n\n\nhttps://www.lacity.org/your-government/meeting-calendars/subscribe-other-meeting-agendas/de partm ent-commissions-committees-boards under Transportation\, Department of. \n\n\n\nIn conformity with the Governor’s Executive Order N-29-20 (March 17\, 2020) and in furtherance with the Mayor’s actions to minimize risk and exposure to the coronavirus COVID-19\, this Bicycle Advisory Committee meeting will be conducted as a virtual meeting via Zoom (see above). Public comment may also be sent to Eli@LA-Bike.org at least two hours prior to the meeting starting time; include in the email Subject Line “Public Comment” and the agenda item number; such comments will be read aloud during consideration of that agenda item subject to time limits. \n\n\n\n\nLABAC June agenda
URL:https://labikecommittee.org/event/los-angeles-bicycle-advisory-committee-meeting-4/
END:VEVENT
BEGIN:VEVENT
DTSTART;TZID=America/Los_Angeles:20220605T110000
DTEND;TZID=America/Los_Angeles:20220605T140000
DTSTAMP:20260423T081907
CREATED:20220605T003040Z
LAST-MODIFIED:20220605T003044Z
UID:1601-1654426800-1654437600@labikecommittee.org
SUMMARY:West Adams Bike Tour
DESCRIPTION:The West Adams Bike Tour will start at the Alsace Hotel on Sunday 11am ! \n\n\n\nThe tour will explore West Adams the best way\, on a bike. You will learn about : the history \, local businesses\, real estate and more… It will be led by local real esate agent and owner of Adopt A Bike\, Jose Prats. RSVP only ! \n\n\n\nPlease arrive 15 minutes early and bring a water! \n\n\n\nAlsace Hotel \n\n\n\n5170 W Adams Blvd. \n\n\n\nLA\, 90016
URL:https://labikecommittee.org/event/west-adams-bike-tour-2/
LOCATION:Alsace Hotel Los Angeles  5170 West Adams Boulevard  Los Angeles\, CA 90016
END:VEVENT
BEGIN:VEVENT
DTSTART;TZID=America/Los_Angeles:20220517T130000
DTEND;TZID=America/Los_Angeles:20220517T150000
DTSTAMP:20260423T081907
CREATED:20220515T181830Z
LAST-MODIFIED:20220515T181832Z
UID:1578-1652792400-1652799600@labikecommittee.org
SUMMARY:Planning and Bikeways Subcommittee Joint Meeting
DESCRIPTION:Agenda
URL:https://labikecommittee.org/event/planning-and-bikeways-subcommittee-joint-meeting/
END:VEVENT
BEGIN:VEVENT
DTSTART;TZID=America/Los_Angeles:20220503T190000
DTEND;TZID=America/Los_Angeles:20220503T210000
DTSTAMP:20260423T081907
CREATED:20220426T205913Z
LAST-MODIFIED:20220426T205916Z
UID:1567-1651604400-1651611600@labikecommittee.org
SUMMARY:Advocacy & Education SubCommittee Meeting
DESCRIPTION:Agenda \n\n\n\n1) Call to Order/Introductionsa) (Current committee membership: Henny Alamillo\, Rob Kadota\, Karen Candady\, EliKaufman\, Quirino de la Cuesta\, Aubrey Provost\, Ade Neff\, Mike Kaiser\, and Jone JonesII as of 2/1/22.)2) News and Announcementsa) Co-chair Updates (Rob and Henny)b) May is National Bike Month\, a celebration of biking as transportation\, as recreation\, asessential to our well-being and everyday lives. May is also when the National BikeChallenge kicks off\, and the challenge continues through September. In 2022\, Bike toWork Week is May 16-22\, with Bike to Work Day on Friday\, May 20\, 2022.https://bikeleague.org/content/bike-month-dates-events-03) Public Comment for items not on the agenda4) Updates from LADOTa) Reports and news from Tam Nguyen and Charlie Hoi) https://ladotlivablestreets.org/projects5) Review and Approve Minutes from the last sub-committee meeting6) Old Businessa) Ongoing edit of: LABAC Bicycle Resource Guide (WLA)b) Ongoing edit of: LABAC Manualc) General Educational Outreach materials7) New Businessa) Discussion of sub-committee member participation\, expectations and representation.b) Discussion of Equity\, Diversity and Inclusion in LABAC and Cycling in general.8) Meeting Highlightsa) Advocacy Focusi) Streets for All Legislative Updates – https://streetsforall.org/stateb) Educational Focus – https://bikeleague.org/bikemonth9) Sister Organization Spotlightsa) https://bikinginla.com/ – Ted Rogersb) https://www.streetsareforeveryone.org/ – Damien Kevitti) Finish the Ride/Run May 1\, 2022 – registration closes Thursday\, April 28th. ½Century is in recognition of Andrew Jeimart killed riding his bike in Griffith Parkduring an ALC training ride 4/16/2022.10) Closing Thoughts\, Meeting Feedback and Future Agenda Items – once around the table
URL:https://labikecommittee.org/event/advocacy-education-subcommittee-meeting-2/
END:VEVENT
BEGIN:VEVENT
DTSTART;TZID=America/Los_Angeles:20220412T183000
DTEND;TZID=America/Los_Angeles:20220412T203000
DTSTAMP:20260423T081907
CREATED:20220408T200153Z
LAST-MODIFIED:20220408T200157Z
UID:1554-1649788200-1649795400@labikecommittee.org
SUMMARY:*SPECIAL MEETING* LABAC General Meeting
DESCRIPTION:AGENDA – link
URL:https://labikecommittee.org/event/special-meeting-labac-general-meeting/
END:VEVENT
BEGIN:VEVENT
DTSTART;TZID=America/Los_Angeles:20220405T190000
DTEND;TZID=America/Los_Angeles:20220405T220000
DTSTAMP:20260423T081907
CREATED:20220404T174324Z
LAST-MODIFIED:20220404T174328Z
UID:1541-1649185200-1649196000@labikecommittee.org
SUMMARY:LABAC General Board Meeting *CANCELLED*
DESCRIPTION:
URL:https://labikecommittee.org/event/labac-general-board-meeting-cancelled/
END:VEVENT
BEGIN:VEVENT
DTSTART;TZID=America/Los_Angeles:20220315T130000
DTEND;TZID=America/Los_Angeles:20220315T150000
DTSTAMP:20260423T081907
CREATED:20220314T174845Z
LAST-MODIFIED:20220314T174910Z
UID:1527-1647349200-1647356400@labikecommittee.org
SUMMARY:Bikeways & Planning Joint Subcommittee Meeting
DESCRIPTION:Agenda \n\n\n\n \n\n\n\nhttps://us02web.zoom.us/j/92221524159Meeting ID: 922 2152 4159One tap mobile+16699006833\,\,92221524159# US (San Jose)+13462487799\,\,92221524159# US (Houston)
URL:https://labikecommittee.org/event/bikeways-planning-joint-subcommittee-meeting/
END:VEVENT
BEGIN:VEVENT
DTSTART;TZID=America/Los_Angeles:20220301T190000
DTEND;TZID=America/Los_Angeles:20220301T210000
DTSTAMP:20260423T081907
CREATED:20220225T004421Z
LAST-MODIFIED:20220225T004426Z
UID:1516-1646161200-1646168400@labikecommittee.org
SUMMARY:Advocacy and Education Sub Committee Meeting
DESCRIPTION:Meeting Time: March 1\, 2022 at 07:00 PM Pacific Time (US and Canada)Join Zoom Meeting https://zoom.us/j/95636147049  \n\n\n\nMeeting ID: 956 3614 7049US (Houston) Dial by your location +1 669 900 6833 US (San Jose) +1 346 248 7799 US(Houston) +1 253 215 8782 US (Tacoma) +1 301 715 8592 US (Germantown) +1 312 626 6799US (Chicago) +1 929 205 6099 US (New York) \n\n\n\n \n\n\n\nAgenda
URL:https://labikecommittee.org/event/advocacy-and-education-sub-committee-meeting/
END:VEVENT
BEGIN:VEVENT
DTSTART;TZID=America/Los_Angeles:20220201T190000
DTEND;TZID=America/Los_Angeles:20220201T213000
DTSTAMP:20260423T081907
CREATED:20220130T020114Z
LAST-MODIFIED:20220130T033309Z
UID:1474-1643742000-1643751000@labikecommittee.org
SUMMARY:LABAC General Board Meeting
DESCRIPTION:Bicycle Advisory Committee Agenda 2/1/2022 \n\n\n\nJoin via Zoom https://zoom.us/j/822090490 or call +1 669 900 6833 (San Jose) or Toll-free 877 853 5257 or 888 475 4499 or 833 548 0276 or 833 548 0282 and enter Meeting ID No. 822 090 490 and then press #. \n\n\n\n\n\n\n\n\n\n\n\n\n\n\n\n\n\n\nAgenda
URL:https://labikecommittee.org/event/labac-general-board-meeting-2/
END:VEVENT
BEGIN:VEVENT
DTSTART;TZID=America/Los_Angeles:20220118T130000
DTEND;TZID=America/Los_Angeles:20220118T150000
DTSTAMP:20260423T081907
CREATED:20220113T213148Z
LAST-MODIFIED:20220114T214305Z
UID:1427-1642510800-1642518000@labikecommittee.org
SUMMARY:Planning Subcommittee & Bikeways Engineering Subcommittee Joint Meeting
DESCRIPTION:City of Los AngelesBICYCLE ADVISORY COMMITTEEPlanning Subcommittee & Bikeways Engineering Subcommittee Joint January 18\, 2022 1:00 to 3:00 p.m. \n\n\n\nThis meeting will be held via Zoom \n\n\n\nJoin Zoom Meetinghttps://us02web.zoom.us/j/92221524159 Meeting ID: 922 2152 4159  \n\n\n\nAgenda for Jan 18 meeting
URL:https://labikecommittee.org/event/planning-subcommittee-bikeways-engineering-subcommittee-joint-meeting-2/
END:VEVENT
BEGIN:VEVENT
DTSTART;TZID=America/Los_Angeles:20220104T190000
DTEND;TZID=America/Los_Angeles:20220104T203000
DTSTAMP:20260423T081907
CREATED:20220104T232734Z
LAST-MODIFIED:20220104T232738Z
UID:1391-1641322800-1641328200@labikecommittee.org
SUMMARY:Los Angeles Bicycle Advisory Committee Education and Advocacy meeting
DESCRIPTION:Join Zoom Meetinghttps://zoom.us/j/95636147049Meeting ID: 956 3614 7049See agenda here.
URL:https://labikecommittee.org/event/los-angeles-bicycle-advisory-committee-education-and-advocacy-meeting-2/
END:VEVENT
BEGIN:VEVENT
DTSTART;TZID=America/Los_Angeles:20211207T190000
DTEND;TZID=America/Los_Angeles:20211207T213000
DTSTAMP:20260423T081907
CREATED:20211204T024925Z
LAST-MODIFIED:20211204T024959Z
UID:1293-1638903600-1638912600@labikecommittee.org
SUMMARY:LABAC Agenda Meeting
DESCRIPTION:Join via Zoom https://zoom.us/j/822090490 or call +1 669 900 6833 (San Jose) \n\n\n\nor Toll-free 877 853 5257 or 888 475 4499 or 833 548 0276 or 833 548 0282 and \n\n\n\nenter Meeting ID No. 822 090 490 and then press #. \n\n\n\n\n\n\n\n\n\n\n\n\n\n\nDecember 7\, 2021 Agenda
URL:https://labikecommittee.org/event/labac-agenda-meeting/
END:VEVENT
BEGIN:VEVENT
DTSTART;TZID=America/Los_Angeles:20211205T090000
DTEND;TZID=America/Los_Angeles:20211205T150000
DTSTAMP:20260423T081907
CREATED:20211114T012454Z
LAST-MODIFIED:20211114T012457Z
UID:1170-1638694800-1638716400@labikecommittee.org
SUMMARY:Ciclavia - South LA
DESCRIPTION:On Sunday\, December 5\, we’re opening up streets in South LA connecting the neighborhoods of South Central\, Exposition Park\, Leimert Park and Crenshaw. Ride\, bike\, skate\, run\, walk\, skateboard\, spectate\, and enjoy the route however you want. We welcome people of all ages and abilities! This CicLAvia is presented by Metro.
URL:https://labikecommittee.org/event/ciclavia-south-la/
END:VEVENT
BEGIN:VEVENT
DTSTART;TZID=America/Los_Angeles:20211116T130000
DTEND;TZID=America/Los_Angeles:20211116T150000
DTSTAMP:20260423T081907
CREATED:20211113T181129Z
LAST-MODIFIED:20211114T011404Z
UID:1155-1637067600-1637074800@labikecommittee.org
SUMMARY:LABAC Planning and Bikeways Committee Meeting
DESCRIPTION:LABAC planing & bikeways Agenda
URL:https://labikecommittee.org/event/labac-planning-and-bikeways-committee-meeting/
END:VEVENT
END:VCALENDAR